BEGIN:VCALENDAR
VERSION:2.0
PRODID:-//MetroMBA - ECPv5.14.1//NONSGML v1.0//EN
CALSCALE:GREGORIAN
METHOD:PUBLISH
X-WR-CALNAME:MetroMBA
X-ORIGINAL-URL:https://www.metromba.com
X-WR-CALDESC:Events for MetroMBA
BEGIN:VTIMEZONE
TZID:America/Los_Angeles
BEGIN:DAYLIGHT
TZOFFSETFROM:-0800
TZOFFSETTO:-0700
TZNAME:PDT
DTSTART:20200308T100000
END:DAYLIGHT
BEGIN:STANDARD
TZOFFSETFROM:-0700
TZOFFSETTO:-0800
TZNAME:PST
DTSTART:20201101T090000
END:STANDARD
END:VTIMEZONE
BEGIN:VEVENT
DTSTART;VALUE=DATE:20200801
DTEND;VALUE=DATE:20200802
DTSTAMP:20260418T203744
CREATED:20170824T152933Z
LAST-MODIFIED:20170824T152933Z
UID:68538-1596240000-1596326399@www.metromba.com
SUMMARY:Chapman / Argyros Professional MBA Round 2 Deadline
DESCRIPTION:
URL:https://www.metromba.com/event/chapman-argyros-professional-mba-round-2-deadline-2020-08-01/
CATEGORIES:Deadline
END:VEVENT
END:VCALENDAR