BEGIN:VCALENDAR
VERSION:2.0
PRODID:-//MetroMBA - ECPv5.14.1//NONSGML v1.0//EN
CALSCALE:GREGORIAN
METHOD:PUBLISH
X-WR-CALNAME:MetroMBA
X-ORIGINAL-URL:https://www.metromba.com
X-WR-CALDESC:Events for MetroMBA
BEGIN:VTIMEZONE
TZID:America/Los_Angeles
BEGIN:DAYLIGHT
TZOFFSETFROM:-0800
TZOFFSETTO:-0700
TZNAME:PDT
DTSTART:20200308T100000
END:DAYLIGHT
BEGIN:STANDARD
TZOFFSETFROM:-0700
TZOFFSETTO:-0800
TZNAME:PST
DTSTART:20201101T090000
END:STANDARD
END:VTIMEZONE
BEGIN:VEVENT
DTSTART;VALUE=DATE:20200701
DTEND;VALUE=DATE:20200702
DTSTAMP:20260420T124628
CREATED:20170824T150812Z
LAST-MODIFIED:20170824T150812Z
UID:68531-1593561600-1593647999@www.metromba.com
SUMMARY:Claremont / Drucker Executive MBA Fall Module I - August Intake Deadline
DESCRIPTION:
URL:https://www.metromba.com/event/claremont-drucker-executive-mba-fall-module-august-intake-deadline-2020-07-01/
CATEGORIES:Deadline
END:VEVENT
END:VCALENDAR